BEGIN:VCALENDAR
VERSION:2.0
PRODID:-//SBDC Hosted by College of the Canyons - ECPv5.0.2.1//NONSGML v1.0//EN
CALSCALE:GREGORIAN
METHOD:PUBLISH
X-WR-CALNAME:SBDC Hosted by College of the Canyons
X-ORIGINAL-URL:https://cocsbdc.org
X-WR-CALDESC:Events for SBDC Hosted by College of the Canyons
BEGIN:VTIMEZONE
TZID:America/Los_Angeles
BEGIN:DAYLIGHT
TZOFFSETFROM:-0800
TZOFFSETTO:-0700
TZNAME:PDT
DTSTART:20230312T100000
END:DAYLIGHT
BEGIN:STANDARD
TZOFFSETFROM:-0700
TZOFFSETTO:-0800
TZNAME:PST
DTSTART:20231105T090000
END:STANDARD
END:VTIMEZONE
BEGIN:VEVENT
DTSTART;TZID=America/Los_Angeles:20230724T100000
DTEND;TZID=America/Los_Angeles:20230724T110000
DTSTAMP:20260425T124626
CREATED:20230706T123718Z
LAST-MODIFIED:20230706T123718Z
UID:14820-1690192800-1690196400@cocsbdc.org
SUMMARY:Webinar - Building Trust and Credibility in E-commerce: Customer Reviews and Testimonials
DESCRIPTION:\nPlease join us for Webinar – Building Trust and Credibility in E-commerce: Customer Reviews and Testimonials with Ramin Ramhormozi \n\nREGISTER NOW \n
URL:https://cocsbdc.org/workshop/webinar-building-trust-and-credibility-in-e-commerce-customer-reviews-and-testimonials/
LOCATION:Webinar – COC
CATEGORIES:Marketing
ATTACH;FMTTYPE=image/jpeg:https://cocsbdc.org/wp-content/uploads/sites/2/2020/02/Woman-presenting-stickynotes-scaled-e1581034105709.jpg
END:VEVENT
END:VCALENDAR