BEGIN:VCALENDAR
VERSION:2.0
PRODID:-//SBDC Hosted by College of the Canyons - ECPv5.0.2.1//NONSGML v1.0//EN
CALSCALE:GREGORIAN
METHOD:PUBLISH
X-WR-CALNAME:SBDC Hosted by College of the Canyons
X-ORIGINAL-URL:https://cocsbdc.org
X-WR-CALDESC:Events for SBDC Hosted by College of the Canyons
BEGIN:VTIMEZONE
TZID:America/Los_Angeles
BEGIN:DAYLIGHT
TZOFFSETFROM:-0800
TZOFFSETTO:-0700
TZNAME:PDT
DTSTART:20230312T100000
END:DAYLIGHT
BEGIN:STANDARD
TZOFFSETFROM:-0700
TZOFFSETTO:-0800
TZNAME:PST
DTSTART:20231105T090000
END:STANDARD
END:VTIMEZONE
BEGIN:VEVENT
DTSTART;TZID=America/Los_Angeles:20230808T100000
DTEND;TZID=America/Los_Angeles:20230808T110000
DTSTAMP:20260425T112132
CREATED:20230802T170029Z
LAST-MODIFIED:20230802T170029Z
UID:14849-1691488800-1691492400@cocsbdc.org
SUMMARY:Webinar - Email Marketing Automation: 5 Key Flows To Maximize Retention and Sales - E-commerce
DESCRIPTION:  \n\nPlease join us for – Email Marketing Automation: 5 Key Flows To Maximize Retention and Sales – E-commerce with Ramin Ramhormozi \n  \n\n  \nREGISTER NOW \n
URL:https://cocsbdc.org/workshop/webinar-email-marketing-automation-5-key-flows-to-maximize-retention-and-sales-e-commerce/
LOCATION:Webinar – COC
CATEGORIES:Branding & Messaging,Business Planning,Marketing
ATTACH;FMTTYPE=image/jpeg:https://cocsbdc.org/wp-content/uploads/sites/2/2021/07/person-in-sweater-using-computer.jpg
END:VEVENT
END:VCALENDAR