BEGIN:VCALENDAR
VERSION:2.0
PRODID:-//SBDC Hosted by College of the Canyons - ECPv5.0.2.1//NONSGML v1.0//EN
CALSCALE:GREGORIAN
METHOD:PUBLISH
X-WR-CALNAME:SBDC Hosted by College of the Canyons
X-ORIGINAL-URL:https://cocsbdc.org
X-WR-CALDESC:Events for SBDC Hosted by College of the Canyons
BEGIN:VTIMEZONE
TZID:America/Los_Angeles
BEGIN:DAYLIGHT
TZOFFSETFROM:-0800
TZOFFSETTO:-0700
TZNAME:PDT
DTSTART:20200308T100000
END:DAYLIGHT
BEGIN:STANDARD
TZOFFSETFROM:-0700
TZOFFSETTO:-0800
TZNAME:PST
DTSTART:20201101T090000
END:STANDARD
END:VTIMEZONE
BEGIN:VEVENT
DTSTART;TZID=America/Los_Angeles:20200528T120000
DTEND;TZID=America/Los_Angeles:20200528T130000
DTSTAMP:20260422T111247
CREATED:20200225T020943Z
LAST-MODIFIED:20200225T020943Z
UID:12185-1590667200-1590670800@cocsbdc.org
SUMMARY:Webinar - Introduction to Entrepreneurship for Veterans\, Military and Spouses
DESCRIPTION:Some are entrepreneurs or naturally entrepreneurial.  This is an opportunity to explore the “entrepreneur in you”.  The session will highlight entrepreneurship as an option to generate income and cash flow and how to bring your vision to life.  Participants will also be introduced to resources to help you take the next step in starting or growing your business\, or transitioning from current activity into a formal business. \nFeatured Topics:\n– Common Characteristics of an Entrepreneur\n– Types of Entrepreneurs\n– Entrepreneurship Economic Impact\n– Find Out How Entrepreneurial You Are\n– Determine How to Proceed with Your Business Idea \n  \nREGISTER NOW \n
URL:https://cocsbdc.org/workshop/webinar-introduction-to-entrepreneurship-for-veterans-military-and-spouses-4/
LOCATION:Webinar – COC
CATEGORIES:Business Planning
ATTACH;FMTTYPE=image/jpeg:https://cocsbdc.org/wp-content/uploads/sites/2/2019/05/working-at-a-cafe-e1565223728273.jpeg
END:VEVENT
END:VCALENDAR